BEGIN:VCALENDAR
VERSION:2.0
PRODID:-//Tukios.com/
BEGIN:VEVENT
UID:27412881-5b59-4d5a-b104-5464cdc23e03@www.wilsontriplett.com
DTSTAMP:20260425T222115Z
DTSTART:20260428T160000Z
DTEND:20260428T163000Z
SUMMARY:Graveside Service
DESCRIPTION:
URL:https://www.wilsontriplett.com/obituaries/ava-carter
LOCATION:    MO 
GEO:0;0
END:VEVENT
END:VCALENDAR