BEGIN:VCALENDAR
VERSION:2.0
PRODID:-//Tukios.com/
BEGIN:VEVENT
UID:8ee433e0-c128-46e0-b5f1-ca165188dbc0@www.wilsontriplett.com
DTSTAMP:20260425T221952Z
DTSTART:20260428T143000Z
DTEND:20260428T153000Z
SUMMARY:Visitation
DESCRIPTION:
URL:https://www.wilsontriplett.com/obituaries/ava-carter
LOCATION: 975 E Main St  Kahoka MO 63445
GEO:40.4207917;-91.7078569
END:VEVENT
END:VCALENDAR